Package: iNETgrate Version: 1.5.0 Command: /home/biocbuild/R/R/bin/R CMD check --install=check:iNETgrate.install-out.txt --library=/home/biocbuild/R/R/site-library --no-vignettes --timings iNETgrate_1.5.0.tar.gz StartedAt: 2025-01-28 11:38:02 -0000 (Tue, 28 Jan 2025) EndedAt: 2025-01-28 11:56:32 -0000 (Tue, 28 Jan 2025) EllapsedTime: 1110.2 seconds RetCode: 0 Status: WARNINGS CheckDir: iNETgrate.Rcheck Warnings: 5