Package: iNETgrate Version: 1.5.0 Command: rm -rf iNETgrate.buildbin-libdir && mkdir iNETgrate.buildbin-libdir && /Users/biocbuild/BBS/utils/build-universal.sh iNETgrate_1.5.0.tar.gz /Library/Frameworks/R.framework/Resources/bin/R iNETgrate.buildbin-libdir StartedAt: 2025-02-06 00:35:27 -0500 (Thu, 06 Feb 2025) EndedAt: 2025-02-06 00:36:55 -0500 (Thu, 06 Feb 2025) EllapsedTime: 87.8 seconds RetCode: 0 Status: OK PackageFile: iNETgrate_1.5.0.tgz PackageFileSize: 4.195 MiB