Package: iNETgrate Version: 1.5.0 Command: /Library/Frameworks/R.framework/Resources/bin/R CMD INSTALL iNETgrate StartedAt: 2025-02-05 15:41:37 -0500 (Wed, 05 Feb 2025) EndedAt: 2025-02-05 15:43:00 -0500 (Wed, 05 Feb 2025) EllapsedTime: 83.4 seconds RetCode: 0 Status: OK