Package: iNETgrate Version: 1.5.0 Command: /home/biocbuild/bbs-3.21-bioc/R/bin/R CMD build --keep-empty-dirs --no-resave-data iNETgrate StartedAt: 2025-02-04 17:42:23 -0500 (Tue, 04 Feb 2025) EndedAt: 2025-02-04 17:46:17 -0500 (Tue, 04 Feb 2025) EllapsedTime: 234.3 seconds RetCode: 0 Status: OK PackageFile: iNETgrate_1.5.0.tar.gz PackageFileSize: 3.979 MiB