Package: iNETgrate Version: 1.5.0 Command: /home/biocbuild/bbs-3.21-bioc/R/bin/R CMD check --install=check:iNETgrate.install-out.txt --library=/home/biocbuild/bbs-3.21-bioc/R/site-library --timings iNETgrate_1.5.0.tar.gz StartedAt: 2025-02-04 23:18:52 -0500 (Tue, 04 Feb 2025) EndedAt: 2025-02-04 23:36:52 -0500 (Tue, 04 Feb 2025) EllapsedTime: 1079.4 seconds RetCode: 0 Status: OK CheckDir: iNETgrate.Rcheck Warnings: 0