Package: iNETgrate Version: 1.5.0 Command: rm -rf iNETgrate.buildbin-libdir && mkdir iNETgrate.buildbin-libdir && E:\biocbuild\bbs-3.21-bioc\R\bin\R.exe CMD INSTALL --build --library=iNETgrate.buildbin-libdir iNETgrate_1.5.0.tar.gz StartedAt: 2025-02-06 08:16:07 -0500 (Thu, 06 Feb 2025) EndedAt: 2025-02-06 08:17:32 -0500 (Thu, 06 Feb 2025) EllapsedTime: 84.8 seconds RetCode: 0 Status: OK PackageFile: iNETgrate_1.5.0.zip PackageFileSize: 4.199 MiB