Package: iNETgrate Version: 1.5.0 Command: chmod a+r iNETgrate -R && E:\biocbuild\bbs-3.21-bioc\R\bin\R.exe CMD build --keep-empty-dirs --no-resave-data iNETgrate StartedAt: 2025-02-05 19:28:20 -0500 (Wed, 05 Feb 2025) EndedAt: 2025-02-05 19:33:33 -0500 (Wed, 05 Feb 2025) EllapsedTime: 313.5 seconds RetCode: 0 Status: OK PackageFile: iNETgrate_1.5.0.tar.gz PackageFileSize: 3.979 MiB