Package: iNETgrate Version: 1.5.0 Command: E:\biocbuild\bbs-3.21-bioc\R\bin\R.exe CMD INSTALL iNETgrate StartedAt: 2025-02-05 17:00:50 -0500 (Wed, 05 Feb 2025) EndedAt: 2025-02-05 17:02:12 -0500 (Wed, 05 Feb 2025) EllapsedTime: 82.7 seconds RetCode: 0 Status: OK