Package: iPAC Version: 1.51.0 Command: /Library/Frameworks/R.framework/Resources/bin/R CMD check --install=check:iPAC.install-out.txt --library=/Library/Frameworks/R.framework/Resources/library --no-vignettes --timings iPAC_1.51.0.tar.gz StartedAt: 2025-02-09 19:45:49 -0500 (Sun, 09 Feb 2025) EndedAt: 2025-02-09 19:47:15 -0500 (Sun, 09 Feb 2025) EllapsedTime: 86.0 seconds RetCode: 0 Status: OK CheckDir: iPAC.Rcheck Warnings: 0