Package: iPAC Version: 1.51.0 Command: /home/biocbuild/R/R/bin/R CMD build --keep-empty-dirs --no-resave-data iPAC StartedAt: 2025-01-28 23:47:31 -0000 (Tue, 28 Jan 2025) EndedAt: 2025-01-28 23:47:54 -0000 (Tue, 28 Jan 2025) EllapsedTime: 23.0 seconds RetCode: 0 Status: OK PackageFile: iPAC_1.51.0.tar.gz PackageFileSize: 602.3 KiB