Package: iPAC Version: 1.51.0 Command: /Library/Frameworks/R.framework/Resources/bin/R CMD build --keep-empty-dirs --no-resave-data iPAC StartedAt: 2025-02-12 17:08:19 -0500 (Wed, 12 Feb 2025) EndedAt: 2025-02-12 17:08:43 -0500 (Wed, 12 Feb 2025) EllapsedTime: 24.0 seconds RetCode: 0 Status: OK PackageFile: iPAC_1.51.0.tar.gz PackageFileSize: 618.8 KiB