Package: iPAC Version: 1.51.0 Command: /Library/Frameworks/R.framework/Resources/bin/R CMD check --install=check:iPAC.install-out.txt --library=/Library/Frameworks/R.framework/Resources/library --no-vignettes --timings iPAC_1.51.0.tar.gz StartedAt: 2025-02-09 21:25:55 -0500 (Sun, 09 Feb 2025) EndedAt: 2025-02-09 21:29:29 -0500 (Sun, 09 Feb 2025) EllapsedTime: 214.3 seconds RetCode: 1 Status: ERROR CheckDir: iPAC.Rcheck Warnings: NA