Package: iPAC Version: 1.51.0 Command: rm -rf iPAC.buildbin-libdir && mkdir iPAC.buildbin-libdir && E:\biocbuild\bbs-3.21-bioc\R\bin\R.exe CMD INSTALL --build --library=iPAC.buildbin-libdir iPAC_1.51.0.tar.gz StartedAt: 2025-02-10 07:58:47 -0500 (Mon, 10 Feb 2025) EndedAt: 2025-02-10 07:59:08 -0500 (Mon, 10 Feb 2025) EllapsedTime: 20.5 seconds RetCode: 0 Status: OK PackageFile: iPAC_1.51.0.zip PackageFileSize: 392.3 KiB