Package: iPAC Version: 1.51.0 Command: E:\biocbuild\bbs-3.21-bioc\R\bin\R.exe CMD check --no-multiarch --install=check:iPAC.install-out.txt --library=E:\biocbuild\bbs-3.21-bioc\R\library --no-vignettes --timings iPAC_1.51.0.tar.gz StartedAt: 2025-02-10 02:11:10 -0500 (Mon, 10 Feb 2025) EndedAt: 2025-02-10 02:15:14 -0500 (Mon, 10 Feb 2025) EllapsedTime: 243.8 seconds RetCode: 0 Status: OK CheckDir: iPAC.Rcheck Warnings: 0