Package: iPAC Version: 1.51.0 Command: E:\biocbuild\bbs-3.21-bioc\R\bin\R.exe CMD INSTALL iPAC StartedAt: 2025-02-12 15:59:55 -0500 (Wed, 12 Feb 2025) EndedAt: 2025-02-12 16:00:17 -0500 (Wed, 12 Feb 2025) EllapsedTime: 22.2 seconds RetCode: 0 Status: OK