Package: iPath Version: 1.13.0 Command: /home/biocbuild/R/R/bin/R CMD build --keep-empty-dirs --no-resave-data iPath StartedAt: 2025-01-28 23:47:32 -0000 (Tue, 28 Jan 2025) EndedAt: 2025-01-28 23:48:20 -0000 (Tue, 28 Jan 2025) EllapsedTime: 48.0 seconds RetCode: 0 Status: OK PackageFile: iPath_1.13.0.tar.gz PackageFileSize: 2.944 MiB