Package: iPath Version: 1.13.0 Command: rm -rf iPath.buildbin-libdir && mkdir iPath.buildbin-libdir && /Users/biocbuild/BBS/utils/build-universal.sh iPath_1.13.0.tar.gz /Library/Frameworks/R.framework/Resources/bin/R iPath.buildbin-libdir StartedAt: 2025-02-10 00:58:56 -0500 (Mon, 10 Feb 2025) EndedAt: 2025-02-10 00:59:23 -0500 (Mon, 10 Feb 2025) EllapsedTime: 26.5 seconds RetCode: 0 Status: OK PackageFile: iPath_1.13.0.tgz PackageFileSize: 3.06 MiB