Package: iPath Version: 1.13.0 Command: /home/biocbuild/bbs-3.21-bioc/R/bin/R CMD build --keep-empty-dirs --no-resave-data iPath StartedAt: 2025-02-09 17:46:50 -0500 (Sun, 09 Feb 2025) EndedAt: 2025-02-09 17:47:23 -0500 (Sun, 09 Feb 2025) EllapsedTime: 33.1 seconds RetCode: 0 Status: OK PackageFile: iPath_1.13.0.tar.gz PackageFileSize: 2.974 MiB