Package: iPath Version: 1.13.0 Command: /home/biocbuild/bbs-3.21-bioc/R/bin/R CMD INSTALL iPath StartedAt: 2025-02-12 15:11:30 -0500 (Wed, 12 Feb 2025) EndedAt: 2025-02-12 15:11:53 -0500 (Wed, 12 Feb 2025) EllapsedTime: 23.0 seconds RetCode: 0 Status: OK