Package: iPath Version: 1.13.0 Command: chmod a+r iPath -R && E:\biocbuild\bbs-3.21-bioc\R\bin\R.exe CMD build --keep-empty-dirs --no-resave-data iPath StartedAt: 2025-02-09 19:25:30 -0500 (Sun, 09 Feb 2025) EndedAt: 2025-02-09 19:26:41 -0500 (Sun, 09 Feb 2025) EllapsedTime: 71.2 seconds RetCode: 1 Status: ERROR PackageFile: None PackageFileSize: NA