Package: iSEE Version: 2.19.2 Command: /Library/Frameworks/R.framework/Resources/bin/R CMD INSTALL iSEE StartedAt: 2025-02-09 15:17:54 -0500 (Sun, 09 Feb 2025) EndedAt: 2025-02-09 15:18:09 -0500 (Sun, 09 Feb 2025) EllapsedTime: 15.0 seconds RetCode: 0 Status: OK