Package: iSEE Version: 2.19.2 Command: /Library/Frameworks/R.framework/Resources/bin/R CMD check --install=check:iSEE.install-out.txt --library=/Library/Frameworks/R.framework/Resources/library --no-vignettes --timings iSEE_2.19.2.tar.gz StartedAt: 2025-02-09 21:26:40 -0500 (Sun, 09 Feb 2025) EndedAt: 2025-02-09 21:32:40 -0500 (Sun, 09 Feb 2025) EllapsedTime: 360.2 seconds RetCode: 0 Status: OK CheckDir: iSEE.Rcheck Warnings: 0