Package: iSEE Version: 2.19.2 Command: /home/biocbuild/bbs-3.21-bioc/R/bin/R CMD check --install=check:iSEE.install-out.txt --library=/home/biocbuild/bbs-3.21-bioc/R/site-library --timings iSEE_2.19.2.tar.gz StartedAt: 2025-02-09 23:27:00 -0500 (Sun, 09 Feb 2025) EndedAt: 2025-02-09 23:34:39 -0500 (Sun, 09 Feb 2025) EllapsedTime: 458.5 seconds RetCode: 0 Status: OK CheckDir: iSEE.Rcheck Warnings: 0