Package: iSEE Version: 2.19.2 Command: /home/biocbuild/bbs-3.21-bioc/R/bin/R CMD INSTALL iSEE StartedAt: 2025-02-09 15:23:08 -0500 (Sun, 09 Feb 2025) EndedAt: 2025-02-09 15:23:47 -0500 (Sun, 09 Feb 2025) EllapsedTime: 39.5 seconds RetCode: 0 Status: OK