Package: iSEE Version: 2.19.2 Command: E:\biocbuild\bbs-3.21-bioc\R\bin\R.exe CMD INSTALL iSEE StartedAt: 2025-02-09 16:19:46 -0500 (Sun, 09 Feb 2025) EndedAt: 2025-02-09 16:21:32 -0500 (Sun, 09 Feb 2025) EllapsedTime: 106.0 seconds RetCode: 0 Status: OK