Package: iSEEde Version: 1.5.0 Maintainer: Kevin Rue-Albrecht MaintainerEmail: kevinrue67 at gmail.com git_url: https://git.bioconductor.org/packages/iSEEde git_branch: devel git_last_commit: 81939ee git_last_commit_date: 2024-11-03 04:09:07 -0500 (Sun, 03 Nov 2024)