Package: iSEEde Version: 1.5.0 Command: /Library/Frameworks/R.framework/Resources/bin/R CMD build --keep-empty-dirs --no-resave-data iSEEde StartedAt: 2025-02-05 16:44:42 -0500 (Wed, 05 Feb 2025) EndedAt: 2025-02-05 16:45:29 -0500 (Wed, 05 Feb 2025) EllapsedTime: 47.5 seconds RetCode: 0 Status: OK PackageFile: iSEEde_1.5.0.tar.gz PackageFileSize: 3.09 MiB