Package: iSEEde Version: 1.5.0 Command: /Library/Frameworks/R.framework/Resources/bin/R CMD check --install=check:iSEEde.install-out.txt --library=/Library/Frameworks/R.framework/Resources/library --no-vignettes --timings iSEEde_1.5.0.tar.gz StartedAt: 2025-02-05 19:52:30 -0500 (Wed, 05 Feb 2025) EndedAt: 2025-02-05 19:54:08 -0500 (Wed, 05 Feb 2025) EllapsedTime: 98.1 seconds RetCode: 0 Status: OK CheckDir: iSEEde.Rcheck Warnings: 0