Package: iSEEde Version: 1.5.0 Command: /home/biocbuild/R/R/bin/R CMD build --keep-empty-dirs --no-resave-data iSEEde StartedAt: 2025-01-28 23:48:20 -0000 (Tue, 28 Jan 2025) EndedAt: 2025-01-28 23:50:58 -0000 (Tue, 28 Jan 2025) EllapsedTime: 158.1 seconds RetCode: 0 Status: OK PackageFile: iSEEde_1.5.0.tar.gz PackageFileSize: 3.349 MiB