Package: iSEEde Version: 1.5.0 Command: /Library/Frameworks/R.framework/Resources/bin/R CMD INSTALL iSEEde StartedAt: 2025-02-05 15:27:51 -0500 (Wed, 05 Feb 2025) EndedAt: 2025-02-05 15:28:35 -0500 (Wed, 05 Feb 2025) EllapsedTime: 44.7 seconds RetCode: 0 Status: OK