Package: iSEEde Version: 1.5.0 Command: /home/biocbuild/bbs-3.21-bioc/R/bin/R CMD build --keep-empty-dirs --no-resave-data iSEEde StartedAt: 2025-02-05 17:47:21 -0500 (Wed, 05 Feb 2025) EndedAt: 2025-02-05 17:49:13 -0500 (Wed, 05 Feb 2025) EllapsedTime: 111.1 seconds RetCode: 0 Status: OK PackageFile: iSEEde_1.5.0.tar.gz PackageFileSize: 3.089 MiB