Package: iSEEhex Version: 1.9.0 Command: /Library/Frameworks/R.framework/Resources/bin/R CMD check --install=check:iSEEhex.install-out.txt --library=/Library/Frameworks/R.framework/Resources/library --no-vignettes --timings iSEEhex_1.9.0.tar.gz StartedAt: 2025-02-09 19:46:47 -0500 (Sun, 09 Feb 2025) EndedAt: 2025-02-09 19:48:19 -0500 (Sun, 09 Feb 2025) EllapsedTime: 92.0 seconds RetCode: 0 Status: OK CheckDir: iSEEhex.Rcheck Warnings: 0