Package: iSEEhex Version: 1.9.0 Command: /Library/Frameworks/R.framework/Resources/bin/R CMD build --keep-empty-dirs --no-resave-data iSEEhex StartedAt: 2025-02-09 17:12:12 -0500 (Sun, 09 Feb 2025) EndedAt: 2025-02-09 17:13:13 -0500 (Sun, 09 Feb 2025) EllapsedTime: 61.7 seconds RetCode: 0 Status: OK PackageFile: iSEEhex_1.9.0.tar.gz PackageFileSize: 486.2 KiB