Package: iSEEhex Version: 1.9.0 Command: /Library/Frameworks/R.framework/Resources/bin/R CMD INSTALL iSEEhex StartedAt: 2025-02-09 15:28:48 -0500 (Sun, 09 Feb 2025) EndedAt: 2025-02-09 15:29:29 -0500 (Sun, 09 Feb 2025) EllapsedTime: 41.0 seconds RetCode: 0 Status: OK