Package: iSEEhex Version: 1.9.0 Command: /home/biocbuild/bbs-3.21-bioc/R/bin/R CMD build --keep-empty-dirs --no-resave-data iSEEhex StartedAt: 2025-02-09 17:47:23 -0500 (Sun, 09 Feb 2025) EndedAt: 2025-02-09 17:48:20 -0500 (Sun, 09 Feb 2025) EllapsedTime: 57.0 seconds RetCode: 0 Status: OK PackageFile: iSEEhex_1.9.0.tar.gz PackageFileSize: 486.3 KiB