Package: iSEEhex Version: 1.9.0 Command: chmod a+r iSEEhex -R && E:\biocbuild\bbs-3.21-bioc\R\bin\R.exe CMD build --keep-empty-dirs --no-resave-data iSEEhex StartedAt: 2025-02-09 19:25:58 -0500 (Sun, 09 Feb 2025) EndedAt: 2025-02-09 19:27:11 -0500 (Sun, 09 Feb 2025) EllapsedTime: 73.0 seconds RetCode: 0 Status: OK PackageFile: iSEEhex_1.9.0.tar.gz PackageFileSize: 486.3 KiB