Package: iSEEindex Version: 1.5.0 Command: rm -rf iSEEindex.buildbin-libdir && mkdir iSEEindex.buildbin-libdir && /Users/biocbuild/BBS/utils/build-universal.sh iSEEindex_1.5.0.tar.gz /Library/Frameworks/R.framework/Resources/bin/R iSEEindex.buildbin-libdir StartedAt: 2025-02-09 22:18:32 -0500 (Sun, 09 Feb 2025) EndedAt: 2025-02-09 22:18:47 -0500 (Sun, 09 Feb 2025) EllapsedTime: 15.3 seconds RetCode: 0 Status: OK PackageFile: iSEEindex_1.5.0.tgz PackageFileSize: 1.542 MiB