Package: iSEEindex Version: 1.5.0 Command: /home/biocbuild/R/R/bin/R CMD build --keep-empty-dirs --no-resave-data iSEEindex StartedAt: 2025-01-28 23:49:11 -0000 (Tue, 28 Jan 2025) EndedAt: 2025-01-28 23:50:22 -0000 (Tue, 28 Jan 2025) EllapsedTime: 71.0 seconds RetCode: 0 Status: OK PackageFile: iSEEindex_1.5.0.tar.gz PackageFileSize: 1.572 MiB