Package: iSEEindex Version: 1.5.0 Command: /home/biocbuild/R/R/bin/R CMD INSTALL iSEEindex StartedAt: 2025-01-29 20:11:05 -0000 (Wed, 29 Jan 2025) EndedAt: 2025-01-29 20:11:50 -0000 (Wed, 29 Jan 2025) EllapsedTime: 44.4 seconds RetCode: 0 Status: OK