Package: iSEEindex Version: 1.5.0 Command: /home/biocbuild/bbs-3.21-bioc/R/bin/R CMD build --keep-empty-dirs --no-resave-data iSEEindex StartedAt: 2025-02-09 17:48:00 -0500 (Sun, 09 Feb 2025) EndedAt: 2025-02-09 17:48:53 -0500 (Sun, 09 Feb 2025) EllapsedTime: 53.1 seconds RetCode: 0 Status: OK PackageFile: iSEEindex_1.5.0.tar.gz PackageFileSize: 1.377 MiB