Package: iSEEindex Version: 1.5.0 Command: /home/biocbuild/bbs-3.21-bioc/R/bin/R CMD check --install=check:iSEEindex.install-out.txt --library=/home/biocbuild/bbs-3.21-bioc/R/site-library --timings iSEEindex_1.5.0.tar.gz StartedAt: 2025-02-09 23:28:21 -0500 (Sun, 09 Feb 2025) EndedAt: 2025-02-09 23:33:15 -0500 (Sun, 09 Feb 2025) EllapsedTime: 293.3 seconds RetCode: 0 Status: OK CheckDir: iSEEindex.Rcheck Warnings: 0