Package: iSEEindex Version: 1.5.0 Command: E:\biocbuild\bbs-3.21-bioc\R\bin\R.exe CMD INSTALL iSEEindex StartedAt: 2025-02-09 16:21:38 -0500 (Sun, 09 Feb 2025) EndedAt: 2025-02-09 16:22:31 -0500 (Sun, 09 Feb 2025) EllapsedTime: 52.2 seconds RetCode: 0 Status: OK