Package: iSEEpathways Version: 1.5.0 Command: /Library/Frameworks/R.framework/Resources/bin/R CMD check --install=check:iSEEpathways.install-out.txt --library=/Library/Frameworks/R.framework/Resources/library --no-vignettes --timings iSEEpathways_1.5.0.tar.gz StartedAt: 2025-02-09 19:47:15 -0500 (Sun, 09 Feb 2025) EndedAt: 2025-02-09 19:48:37 -0500 (Sun, 09 Feb 2025) EllapsedTime: 81.9 seconds RetCode: 0 Status: OK CheckDir: iSEEpathways.Rcheck Warnings: 0