Package: iSEEpathways Version: 1.5.0 Command: /Library/Frameworks/R.framework/Resources/bin/R CMD INSTALL iSEEpathways StartedAt: 2025-02-09 15:18:09 -0500 (Sun, 09 Feb 2025) EndedAt: 2025-02-09 15:18:21 -0500 (Sun, 09 Feb 2025) EllapsedTime: 12.3 seconds RetCode: 0 Status: OK