Package: iSEEpathways Version: 1.5.0 Command: /home/biocbuild/R/R/bin/R CMD build --keep-empty-dirs --no-resave-data iSEEpathways StartedAt: 2025-01-28 23:49:24 -0000 (Tue, 28 Jan 2025) EndedAt: 2025-01-28 23:53:12 -0000 (Tue, 28 Jan 2025) EllapsedTime: 228.1 seconds RetCode: 0 Status: OK PackageFile: iSEEpathways_1.5.0.tar.gz PackageFileSize: 2.331 MiB