Package: iSEEpathways Version: 1.5.0 Command: /Library/Frameworks/R.framework/Resources/bin/R CMD build --keep-empty-dirs --no-resave-data iSEEpathways StartedAt: 2025-02-04 17:08:12 -0500 (Tue, 04 Feb 2025) EndedAt: 2025-02-04 17:11:15 -0500 (Tue, 04 Feb 2025) EllapsedTime: 183.0 seconds RetCode: 0 Status: OK PackageFile: iSEEpathways_1.5.0.tar.gz PackageFileSize: 2.138 MiB