Package: iSEEpathways Version: 1.5.0 Command: /Library/Frameworks/R.framework/Resources/bin/R CMD check --install=check:iSEEpathways.install-out.txt --library=/Library/Frameworks/R.framework/Resources/library --no-vignettes --timings iSEEpathways_1.5.0.tar.gz StartedAt: 2025-02-04 21:13:37 -0500 (Tue, 04 Feb 2025) EndedAt: 2025-02-04 21:17:21 -0500 (Tue, 04 Feb 2025) EllapsedTime: 223.8 seconds RetCode: 0 Status: OK CheckDir: iSEEpathways.Rcheck Warnings: 0