Package: iSEEpathways Version: 1.5.0 Command: /Library/Frameworks/R.framework/Resources/bin/R CMD INSTALL iSEEpathways StartedAt: 2025-02-04 15:28:00 -0500 (Tue, 04 Feb 2025) EndedAt: 2025-02-04 15:28:41 -0500 (Tue, 04 Feb 2025) EllapsedTime: 40.7 seconds RetCode: 0 Status: OK