Package: iSEEpathways Version: 1.5.0 Command: /home/biocbuild/bbs-3.21-bioc/R/bin/R CMD build --keep-empty-dirs --no-resave-data iSEEpathways StartedAt: 2025-02-04 17:46:06 -0500 (Tue, 04 Feb 2025) EndedAt: 2025-02-04 17:48:46 -0500 (Tue, 04 Feb 2025) EllapsedTime: 159.3 seconds RetCode: 0 Status: OK PackageFile: iSEEpathways_1.5.0.tar.gz PackageFileSize: 2.138 MiB