Package: iSEEpathways Version: 1.5.0 Command: /home/biocbuild/bbs-3.21-bioc/R/bin/R CMD check --install=check:iSEEpathways.install-out.txt --library=/home/biocbuild/bbs-3.21-bioc/R/site-library --timings iSEEpathways_1.5.0.tar.gz StartedAt: 2025-02-04 23:27:31 -0500 (Tue, 04 Feb 2025) EndedAt: 2025-02-04 23:33:51 -0500 (Tue, 04 Feb 2025) EllapsedTime: 380.5 seconds RetCode: 0 Status: OK CheckDir: iSEEpathways.Rcheck Warnings: 0